BEGIN:VCALENDAR
VERSION:2.0
PRODID:-//hacksw/handcal//NONSGML v1.0//EN
CALSCALE:GREGORIAN
BEGIN:VEVENT
ORGANIZER;CN=Ferroglobe PLC:MAILTO:no-reply@mail.gcs-web.com
DTEND:
UID:10b82732-552c-4531-a891-d0db56f3cac3
DTSTAMP:1776954257
LOCATION:https://edge.media-server.com/mmc/p/sfxcprpy
DESCRIPTION:Event Details https://www.ferroglobe.com/events/event-details/first-quarter-2026-earnings-investors-call\n\nWebcast: https://edge.media-server.com/mmc/p/sfxcprpy
URL;VALUE=URI:https://edge.media-server.com/mmc/p/sfxcprpy
SUMMARY:Ferroglobe PLC - First Quarter 2026 Earnings Investors Call
DTSTART:20260506T123000Z
END:VEVENT
END:VCALENDAR